Package: MsBackendRawFileReader Version: 1.13.1 Command: /Library/Frameworks/R.framework/Resources/bin/R CMD build --keep-empty-dirs --no-resave-data MsBackendRawFileReader StartedAt: 2025-02-09 17:36:31 -0500 (Sun, 09 Feb 2025) EndedAt: 2025-02-09 17:39:37 -0500 (Sun, 09 Feb 2025) EllapsedTime: 186.1 seconds RetCode: 0 Status: OK PackageFile: MsBackendRawFileReader_1.13.1.tar.gz PackageFileSize: 1.467 MiB