Package: MsBackendRawFileReader Version: 1.13.1 Command: chmod a+r MsBackendRawFileReader -R && E:\biocbuild\bbs-3.21-bioc\R\bin\R.exe CMD build --keep-empty-dirs --no-resave-data MsBackendRawFileReader StartedAt: 2025-02-04 20:09:12 -0500 (Tue, 04 Feb 2025) EndedAt: 2025-02-04 20:15:22 -0500 (Tue, 04 Feb 2025) EllapsedTime: 369.9 seconds RetCode: 0 Status: OK PackageFile: MsBackendRawFileReader_1.13.1.tar.gz PackageFileSize: 1.244 MiB