Package: MsBackendSql Version: 1.7.3 Command: /home/biocbuild/R/R/bin/R CMD check --install=check:MsBackendSql.install-out.txt --library=/home/biocbuild/R/R/site-library --no-vignettes --timings MsBackendSql_1.7.3.tar.gz StartedAt: 2025-01-28 12:52:15 -0000 (Tue, 28 Jan 2025) EndedAt: 2025-01-28 12:59:19 -0000 (Tue, 28 Jan 2025) EllapsedTime: 423.5 seconds RetCode: 0 Status: OK CheckDir: MsBackendSql.Rcheck Warnings: 0