Package: MsBackendSql Version: 1.7.3 Command: rm -rf MsBackendSql.buildbin-libdir && mkdir MsBackendSql.buildbin-libdir && /Users/biocbuild/BBS/utils/build-universal.sh MsBackendSql_1.7.3.tar.gz /Library/Frameworks/R.framework/Resources/bin/R MsBackendSql.buildbin-libdir StartedAt: 2025-02-05 00:50:34 -0500 (Wed, 05 Feb 2025) EndedAt: 2025-02-05 00:50:56 -0500 (Wed, 05 Feb 2025) EllapsedTime: 22.0 seconds RetCode: 0 Status: OK PackageFile: MsBackendSql_1.7.3.tgz PackageFileSize: 625.8 KiB