Package: MsBackendSql Version: 1.7.3 Command: /Library/Frameworks/R.framework/Resources/bin/R CMD INSTALL MsBackendSql StartedAt: 2025-02-04 15:14:11 -0500 (Tue, 04 Feb 2025) EndedAt: 2025-02-04 15:14:33 -0500 (Tue, 04 Feb 2025) EllapsedTime: 22.2 seconds RetCode: 0 Status: OK