Package: MsBackendSql Version: 1.7.3 Command: /home/biocbuild/bbs-3.21-bioc/R/bin/R CMD build --keep-empty-dirs --no-resave-data MsBackendSql StartedAt: 2025-02-04 18:15:14 -0500 (Tue, 04 Feb 2025) EndedAt: 2025-02-04 18:16:19 -0500 (Tue, 04 Feb 2025) EllapsedTime: 65.1 seconds RetCode: 0 Status: OK PackageFile: MsBackendSql_1.7.3.tar.gz PackageFileSize: 340.7 KiB