Package: MsBackendSql Version: 1.7.3 Command: /home/biocbuild/bbs-3.21-bioc/R/bin/R CMD check --install=check:MsBackendSql.install-out.txt --library=/home/biocbuild/bbs-3.21-bioc/R/site-library --timings MsBackendSql_1.7.3.tar.gz StartedAt: 2025-02-05 00:37:27 -0500 (Wed, 05 Feb 2025) EndedAt: 2025-02-05 00:43:24 -0500 (Wed, 05 Feb 2025) EllapsedTime: 356.5 seconds RetCode: 0 Status: OK CheckDir: MsBackendSql.Rcheck Warnings: 0