Package: MsCoreUtils Version: 1.19.0 Command: rm -rf MsCoreUtils.buildbin-libdir && mkdir MsCoreUtils.buildbin-libdir && /Users/biocbuild/BBS/utils/build-universal.sh MsCoreUtils_1.19.0.tar.gz /Library/Frameworks/R.framework/Resources/bin/R MsCoreUtils.buildbin-libdir StartedAt: 2025-02-10 01:04:22 -0500 (Mon, 10 Feb 2025) EndedAt: 2025-02-10 01:04:37 -0500 (Mon, 10 Feb 2025) EllapsedTime: 15.1 seconds RetCode: 0 Status: OK PackageFile: MsCoreUtils_1.19.0.tgz PackageFileSize: 534.9 KiB