Package: MsCoreUtils Version: 1.19.0 Command: /Library/Frameworks/R.framework/Resources/bin/R CMD check --install=check:MsCoreUtils.install-out.txt --library=/Library/Frameworks/R.framework/Resources/library --no-vignettes --timings MsCoreUtils_1.19.0.tar.gz StartedAt: 2025-02-09 22:07:43 -0500 (Sun, 09 Feb 2025) EndedAt: 2025-02-09 22:12:18 -0500 (Sun, 09 Feb 2025) EllapsedTime: 274.5 seconds RetCode: 0 Status: OK CheckDir: MsCoreUtils.Rcheck Warnings: 0