Package: MsCoreUtils Version: 1.19.0 Command: /home/biocbuild/bbs-3.21-bioc/R/bin/R CMD build --keep-empty-dirs --no-resave-data MsCoreUtils StartedAt: 2025-02-12 18:13:31 -0500 (Wed, 12 Feb 2025) EndedAt: 2025-02-12 18:13:41 -0500 (Wed, 12 Feb 2025) EllapsedTime: 10.0 seconds RetCode: 0 Status: OK PackageFile: MsCoreUtils_1.19.0.tar.gz PackageFileSize: 412.2 KiB