Package: MsExperiment Version: 1.9.0 Command: rm -rf MsExperiment.buildbin-libdir && mkdir MsExperiment.buildbin-libdir && /Users/biocbuild/BBS/utils/build-universal.sh MsExperiment_1.9.0.tar.gz /Library/Frameworks/R.framework/Resources/bin/R MsExperiment.buildbin-libdir StartedAt: 2025-02-09 22:22:28 -0500 (Sun, 09 Feb 2025) EndedAt: 2025-02-09 22:22:41 -0500 (Sun, 09 Feb 2025) EllapsedTime: 13.3 seconds RetCode: 0 Status: OK PackageFile: MsExperiment_1.9.0.tgz PackageFileSize: 1.462 MiB