Package: MsExperiment Version: 1.9.0 Command: /Library/Frameworks/R.framework/Resources/bin/R CMD build --keep-empty-dirs --no-resave-data MsExperiment StartedAt: 2025-02-09 17:02:55 -0500 (Sun, 09 Feb 2025) EndedAt: 2025-02-09 17:03:26 -0500 (Sun, 09 Feb 2025) EllapsedTime: 31.3 seconds RetCode: 0 Status: OK PackageFile: MsExperiment_1.9.0.tar.gz PackageFileSize: 1.89 MiB