Package: MsExperiment Version: 1.9.0 Command: /Library/Frameworks/R.framework/Resources/bin/R CMD check --install=check:MsExperiment.install-out.txt --library=/Library/Frameworks/R.framework/Resources/library --no-vignettes --timings MsExperiment_1.9.0.tar.gz StartedAt: 2025-01-31 20:20:25 -0500 (Fri, 31 Jan 2025) EndedAt: 2025-01-31 20:21:58 -0500 (Fri, 31 Jan 2025) EllapsedTime: 93.2 seconds RetCode: 1 Status: ERROR CheckDir: MsExperiment.Rcheck Warnings: NA