Package: MsExperiment Version: 1.9.0 Command: /Library/Frameworks/R.framework/Resources/bin/R CMD build --keep-empty-dirs --no-resave-data MsExperiment StartedAt: 2025-02-04 17:31:31 -0500 (Tue, 04 Feb 2025) EndedAt: 2025-02-04 17:32:29 -0500 (Tue, 04 Feb 2025) EllapsedTime: 58.3 seconds RetCode: 1 Status: ERROR PackageFile: None PackageFileSize: NA