Package: MsExperiment Version: 1.9.0 Command: /Library/Frameworks/R.framework/Resources/bin/R CMD check --install=check:MsExperiment.install-out.txt --library=/Library/Frameworks/R.framework/Resources/library --no-vignettes --timings MsExperiment_1.9.0.tar.gz StartedAt: 2025-02-09 22:07:53 -0500 (Sun, 09 Feb 2025) EndedAt: 2025-02-09 22:12:25 -0500 (Sun, 09 Feb 2025) EllapsedTime: 271.9 seconds RetCode: 1 Status: ERROR CheckDir: MsExperiment.Rcheck Warnings: NA