Package: MsExperiment Version: 1.9.0 Command: /Library/Frameworks/R.framework/Resources/bin/R CMD INSTALL MsExperiment StartedAt: 2025-02-09 15:26:54 -0500 (Sun, 09 Feb 2025) EndedAt: 2025-02-09 15:27:37 -0500 (Sun, 09 Feb 2025) EllapsedTime: 43.0 seconds RetCode: 0 Status: OK