Package: MsExperiment Version: 1.9.0 Command: /home/biocbuild/bbs-3.21-bioc/R/bin/R CMD build --keep-empty-dirs --no-resave-data MsExperiment StartedAt: 2025-02-04 18:15:31 -0500 (Tue, 04 Feb 2025) EndedAt: 2025-02-04 18:16:14 -0500 (Tue, 04 Feb 2025) EllapsedTime: 43.0 seconds RetCode: 1 Status: ERROR PackageFile: None PackageFileSize: NA