Package: MsExperiment Version: 1.9.0 Command: /home/biocbuild/bbs-3.21-bioc/R/bin/R CMD check --install=check:MsExperiment.install-out.txt --library=/home/biocbuild/bbs-3.21-bioc/R/site-library --timings MsExperiment_1.9.0.tar.gz StartedAt: 2025-02-10 00:30:13 -0500 (Mon, 10 Feb 2025) EndedAt: 2025-02-10 00:34:53 -0500 (Mon, 10 Feb 2025) EllapsedTime: 279.4 seconds RetCode: 1 Status: ERROR CheckDir: MsExperiment.Rcheck Warnings: NA