Package: MsExperiment Version: 1.9.0 Command: rm -rf MsExperiment.buildbin-libdir && mkdir MsExperiment.buildbin-libdir && E:\biocbuild\bbs-3.21-bioc\R\bin\R.exe CMD INSTALL --build --library=MsExperiment.buildbin-libdir MsExperiment_1.9.0.tar.gz StartedAt: 2025-02-10 08:13:14 -0500 (Mon, 10 Feb 2025) EndedAt: 2025-02-10 08:14:03 -0500 (Mon, 10 Feb 2025) EllapsedTime: 48.8 seconds RetCode: 0 Status: OK PackageFile: MsExperiment_1.9.0.zip PackageFileSize: 1.457 MiB