Package: MsFeatures Version: 1.15.0 Command: /home/biocbuild/R/R/bin/R CMD build --keep-empty-dirs --no-resave-data MsFeatures StartedAt: 2025-01-29 00:38:59 -0000 (Wed, 29 Jan 2025) EndedAt: 2025-01-29 00:39:50 -0000 (Wed, 29 Jan 2025) EllapsedTime: 51.0 seconds RetCode: 0 Status: OK PackageFile: MsFeatures_1.15.0.tar.gz PackageFileSize: 826.6 KiB