Package: MsFeatures Version: 1.15.0 Command: /Library/Frameworks/R.framework/Resources/bin/R CMD build --keep-empty-dirs --no-resave-data MsFeatures StartedAt: 2025-02-09 17:36:56 -0500 (Sun, 09 Feb 2025) EndedAt: 2025-02-09 17:37:49 -0500 (Sun, 09 Feb 2025) EllapsedTime: 52.7 seconds RetCode: 0 Status: OK PackageFile: MsFeatures_1.15.0.tar.gz PackageFileSize: 1.213 MiB