Package: MsFeatures Version: 1.15.0 Command: rm -rf MsFeatures.buildbin-libdir && mkdir MsFeatures.buildbin-libdir && E:\biocbuild\bbs-3.21-bioc\R\bin\R.exe CMD INSTALL --build --library=MsFeatures.buildbin-libdir MsFeatures_1.15.0.tar.gz StartedAt: 2025-02-10 08:13:18 -0500 (Mon, 10 Feb 2025) EndedAt: 2025-02-10 08:13:45 -0500 (Mon, 10 Feb 2025) EllapsedTime: 27.3 seconds RetCode: 0 Status: OK PackageFile: MsFeatures_1.15.0.zip PackageFileSize: 889.8 KiB