Package: MsQuality Version: 1.7.1 Maintainer: Thomas Naake MaintainerEmail: thomasnaake at googlemail.com git_url: https://git.bioconductor.org/packages/MsQuality git_branch: devel git_last_commit: 8207c19 git_last_commit_date: 2025-01-22 09:02:54 -0500 (Wed, 22 Jan 2025)