Package: MsQuality Version: 1.7.1 Command: /home/biocbuild/R/R/bin/R CMD build --keep-empty-dirs --no-resave-data MsQuality StartedAt: 2025-01-29 00:41:08 -0000 (Wed, 29 Jan 2025) EndedAt: 2025-01-29 00:42:29 -0000 (Wed, 29 Jan 2025) EllapsedTime: 81.0 seconds RetCode: 0 Status: OK PackageFile: MsQuality_1.7.1.tar.gz PackageFileSize: 4.479 MiB