Package: MsQuality Version: 1.7.1 Command: /home/biocbuild/R/R/bin/R CMD check --install=check:MsQuality.install-out.txt --library=/home/biocbuild/R/R/site-library --no-vignettes --timings MsQuality_1.7.1.tar.gz StartedAt: 2025-01-28 12:57:32 -0000 (Tue, 28 Jan 2025) EndedAt: 2025-01-28 13:37:32 -0000 (Tue, 28 Jan 2025) EllapsedTime: 2400.2 seconds RetCode: None Status: TIMEOUT CheckDir: MsQuality.Rcheck Warnings: NA