Package: MsQuality Version: 1.7.1 Command: /Library/Frameworks/R.framework/Resources/bin/R CMD build --keep-empty-dirs --no-resave-data MsQuality StartedAt: 2025-02-12 17:33:03 -0500 (Wed, 12 Feb 2025) EndedAt: 2025-02-12 17:34:33 -0500 (Wed, 12 Feb 2025) EllapsedTime: 90.1 seconds RetCode: 0 Status: OK PackageFile: MsQuality_1.7.1.tar.gz PackageFileSize: 4.243 MiB