Package: MsQuality Version: 1.7.1 Command: /Library/Frameworks/R.framework/Resources/bin/R CMD INSTALL MsQuality StartedAt: 2025-02-09 15:28:39 -0500 (Sun, 09 Feb 2025) EndedAt: 2025-02-09 15:29:25 -0500 (Sun, 09 Feb 2025) EllapsedTime: 46.7 seconds RetCode: 0 Status: OK