Package: MsQuality Version: 1.7.1 Command: rm -rf MsQuality.buildbin-libdir && mkdir MsQuality.buildbin-libdir && E:\biocbuild\bbs-3.21-bioc\R\bin\R.exe CMD INSTALL --build --library=MsQuality.buildbin-libdir MsQuality_1.7.1.tar.gz StartedAt: 2025-02-10 08:14:01 -0500 (Mon, 10 Feb 2025) EndedAt: 2025-02-10 08:14:54 -0500 (Mon, 10 Feb 2025) EllapsedTime: 52.7 seconds RetCode: 0 Status: OK PackageFile: MsQuality_1.7.1.zip PackageFileSize: 4.385 MiB