Package: MuData Version: 1.11.0 Maintainer: Danila Bredikhin MaintainerEmail: danila.bredikhin at embl.de git_url: https://git.bioconductor.org/packages/MuData git_branch: devel git_last_commit: 372bd2d git_last_commit_date: 2024-10-29 11:08:44 -0500 (Tue, 29 Oct 2024)