Package: MuData Version: 1.11.0 Command: rm -rf MuData.buildbin-libdir && mkdir MuData.buildbin-libdir && /Users/biocbuild/BBS/utils/build-universal.sh MuData_1.11.0.tar.gz /Library/Frameworks/R.framework/Resources/bin/R MuData.buildbin-libdir StartedAt: 2025-02-09 22:22:50 -0500 (Sun, 09 Feb 2025) EndedAt: 2025-02-09 22:23:02 -0500 (Sun, 09 Feb 2025) EllapsedTime: 11.3 seconds RetCode: 0 Status: OK PackageFile: MuData_1.11.0.tgz PackageFileSize: 2.296 MiB