Package: MuData Version: 1.11.0 Command: /Library/Frameworks/R.framework/Resources/bin/R CMD INSTALL MuData StartedAt: 2025-02-09 15:05:14 -0500 (Sun, 09 Feb 2025) EndedAt: 2025-02-09 15:05:25 -0500 (Sun, 09 Feb 2025) EllapsedTime: 11.0 seconds RetCode: 0 Status: OK