Package: MuData Version: 1.11.0 Command: /home/biocbuild/R/R/bin/R CMD INSTALL MuData StartedAt: 2025-01-29 19:41:43 -0000 (Wed, 29 Jan 2025) EndedAt: 2025-01-29 19:42:16 -0000 (Wed, 29 Jan 2025) EllapsedTime: 33.2 seconds RetCode: 0 Status: OK