Package: MuData Version: 1.11.0 Command: rm -rf MuData.buildbin-libdir && mkdir MuData.buildbin-libdir && /Users/biocbuild/BBS/utils/build-universal.sh MuData_1.11.0.tar.gz /Library/Frameworks/R.framework/Resources/bin/R MuData.buildbin-libdir StartedAt: 2025-02-10 01:04:57 -0500 (Mon, 10 Feb 2025) EndedAt: 2025-02-10 01:05:34 -0500 (Mon, 10 Feb 2025) EllapsedTime: 37.0 seconds RetCode: 0 Status: OK PackageFile: MuData_1.11.0.tgz PackageFileSize: 2.279 MiB