Package: MuData Version: 1.11.0 Command: /home/biocbuild/bbs-3.21-bioc/R/bin/R CMD INSTALL MuData StartedAt: 2025-02-09 15:19:02 -0500 (Sun, 09 Feb 2025) EndedAt: 2025-02-09 15:19:26 -0500 (Sun, 09 Feb 2025) EllapsedTime: 24.8 seconds RetCode: 0 Status: OK