Package: MuData Version: 1.11.0 Command: E:\biocbuild\bbs-3.21-bioc\R\bin\R.exe CMD INSTALL MuData StartedAt: 2025-02-09 16:18:30 -0500 (Sun, 09 Feb 2025) EndedAt: 2025-02-09 16:19:01 -0500 (Sun, 09 Feb 2025) EllapsedTime: 30.8 seconds RetCode: 0 Status: OK