Package: Mulcom Version: 1.57.0 Command: /Library/Frameworks/R.framework/Resources/bin/R CMD build --keep-empty-dirs --no-resave-data Mulcom StartedAt: 2025-02-09 17:04:40 -0500 (Sun, 09 Feb 2025) EndedAt: 2025-02-09 17:04:41 -0500 (Sun, 09 Feb 2025) EllapsedTime: 1.0 seconds RetCode: 0 Status: OK PackageFile: Mulcom_1.57.0.tar.gz PackageFileSize: 1.095 MiB