Package: Mulcom Version: 1.57.0 Command: /home/biocbuild/R/R/bin/R CMD build --keep-empty-dirs --no-resave-data Mulcom StartedAt: 2025-01-29 00:44:01 -0000 (Wed, 29 Jan 2025) EndedAt: 2025-01-29 00:44:02 -0000 (Wed, 29 Jan 2025) EllapsedTime: 1.0 seconds RetCode: 0 Status: OK PackageFile: Mulcom_1.57.0.tar.gz PackageFileSize: 1.095 MiB