Package: Mulcom Version: 1.57.0 Command: /Library/Frameworks/R.framework/Resources/bin/R CMD INSTALL Mulcom StartedAt: 2025-02-09 15:08:30 -0500 (Sun, 09 Feb 2025) EndedAt: 2025-02-09 15:08:45 -0500 (Sun, 09 Feb 2025) EllapsedTime: 14.7 seconds RetCode: 0 Status: OK