Package: Mulcom Version: 1.57.0 Command: rm -rf Mulcom.buildbin-libdir && mkdir Mulcom.buildbin-libdir && E:\biocbuild\bbs-3.21-bioc\R\bin\R.exe CMD INSTALL --build --library=Mulcom.buildbin-libdir Mulcom_1.57.0.tar.gz StartedAt: 2025-02-10 08:14:29 -0500 (Mon, 10 Feb 2025) EndedAt: 2025-02-10 08:14:49 -0500 (Mon, 10 Feb 2025) EllapsedTime: 20.2 seconds RetCode: 0 Status: OK PackageFile: Mulcom_1.57.0.zip PackageFileSize: 1.49 MiB