Package: Mulcom Version: 1.57.0 Command: E:\biocbuild\bbs-3.21-bioc\R\bin\R.exe CMD check --no-multiarch --install=check:Mulcom.install-out.txt --library=E:\biocbuild\bbs-3.21-bioc\R\library --no-vignettes --timings Mulcom_1.57.0.tar.gz StartedAt: 2025-02-10 03:24:14 -0500 (Mon, 10 Feb 2025) EndedAt: 2025-02-10 03:25:50 -0500 (Mon, 10 Feb 2025) EllapsedTime: 95.1 seconds RetCode: 0 Status: WARNINGS CheckDir: Mulcom.Rcheck Warnings: 1