Package: Mulcom Version: 1.57.0 Command: E:\biocbuild\bbs-3.21-bioc\R\bin\R.exe CMD INSTALL Mulcom StartedAt: 2025-02-09 15:30:42 -0500 (Sun, 09 Feb 2025) EndedAt: 2025-02-09 15:31:07 -0500 (Sun, 09 Feb 2025) EllapsedTime: 25.1 seconds RetCode: 0 Status: OK