Package: MultiAssayExperiment Version: 1.33.9 Command: rm -rf MultiAssayExperiment.buildbin-libdir && mkdir MultiAssayExperiment.buildbin-libdir && /Users/biocbuild/BBS/utils/build-universal.sh MultiAssayExperiment_1.33.9.tar.gz /Library/Frameworks/R.framework/Resources/bin/R MultiAssayExperiment.buildbin-libdir StartedAt: 2025-02-09 22:22:52 -0500 (Sun, 09 Feb 2025) EndedAt: 2025-02-09 22:23:07 -0500 (Sun, 09 Feb 2025) EllapsedTime: 14.3 seconds RetCode: 0 Status: OK PackageFile: MultiAssayExperiment_1.33.9.tgz PackageFileSize: 2.086 MiB