Package: MultiAssayExperiment Version: 1.33.9 Command: /Library/Frameworks/R.framework/Resources/bin/R CMD build --keep-empty-dirs --no-resave-data MultiAssayExperiment StartedAt: 2025-02-09 17:04:41 -0500 (Sun, 09 Feb 2025) EndedAt: 2025-02-09 17:05:07 -0500 (Sun, 09 Feb 2025) EllapsedTime: 26.3 seconds RetCode: 0 Status: OK PackageFile: MultiAssayExperiment_1.33.9.tar.gz PackageFileSize: 1.153 MiB