Package: MultiAssayExperiment Version: 1.33.9 Command: /Library/Frameworks/R.framework/Resources/bin/R CMD INSTALL MultiAssayExperiment StartedAt: 2025-02-09 15:05:01 -0500 (Sun, 09 Feb 2025) EndedAt: 2025-02-09 15:05:14 -0500 (Sun, 09 Feb 2025) EllapsedTime: 12.7 seconds RetCode: 0 Status: OK