Package: MultiAssayExperiment Version: 1.33.8 Command: /home/biocbuild/R/R/bin/R CMD build --keep-empty-dirs --no-resave-data MultiAssayExperiment StartedAt: 2025-01-29 00:44:02 -0000 (Wed, 29 Jan 2025) EndedAt: 2025-01-29 00:45:29 -0000 (Wed, 29 Jan 2025) EllapsedTime: 87.1 seconds RetCode: 0 Status: OK PackageFile: MultiAssayExperiment_1.33.8.tar.gz PackageFileSize: 1.169 MiB