Package: MultiAssayExperiment Version: 1.33.9 Command: /home/biocbuild/R/R/bin/R CMD INSTALL MultiAssayExperiment StartedAt: 2025-01-29 19:40:57 -0000 (Wed, 29 Jan 2025) EndedAt: 2025-01-29 19:41:40 -0000 (Wed, 29 Jan 2025) EllapsedTime: 43.0 seconds RetCode: 0 Status: OK