Package: MultiAssayExperiment Version: 1.33.9 Command: /Library/Frameworks/R.framework/Resources/bin/R CMD build --keep-empty-dirs --no-resave-data MultiAssayExperiment StartedAt: 2025-02-12 17:34:35 -0500 (Wed, 12 Feb 2025) EndedAt: 2025-02-12 17:36:08 -0500 (Wed, 12 Feb 2025) EllapsedTime: 92.6 seconds RetCode: 0 Status: OK PackageFile: MultiAssayExperiment_1.33.9.tar.gz PackageFileSize: 1.152 MiB