Package: MultiAssayExperiment Version: 1.33.9 Command: /home/biocbuild/bbs-3.21-bioc/R/bin/R CMD check --install=check:MultiAssayExperiment.install-out.txt --library=/home/biocbuild/bbs-3.21-bioc/R/site-library --timings MultiAssayExperiment_1.33.9.tar.gz StartedAt: 2025-02-13 00:36:21 -0500 (Thu, 13 Feb 2025) EndedAt: 2025-02-13 00:41:12 -0500 (Thu, 13 Feb 2025) EllapsedTime: 291.4 seconds RetCode: 0 Status: OK CheckDir: MultiAssayExperiment.Rcheck Warnings: 0