Package: MultiAssayExperiment Version: 1.33.9 Command: /home/biocbuild/bbs-3.21-bioc/R/bin/R CMD INSTALL MultiAssayExperiment StartedAt: 2025-02-09 15:18:29 -0500 (Sun, 09 Feb 2025) EndedAt: 2025-02-09 15:19:00 -0500 (Sun, 09 Feb 2025) EllapsedTime: 31.2 seconds RetCode: 0 Status: OK