Package: MultiAssayExperiment Version: 1.33.9 Command: rm -rf MultiAssayExperiment.buildbin-libdir && mkdir MultiAssayExperiment.buildbin-libdir && E:\biocbuild\bbs-3.21-bioc\R\bin\R.exe CMD INSTALL --build --library=MultiAssayExperiment.buildbin-libdir MultiAssayExperiment_1.33.9.tar.gz StartedAt: 2025-02-10 08:14:31 -0500 (Mon, 10 Feb 2025) EndedAt: 2025-02-10 08:24:51 -0500 (Mon, 10 Feb 2025) EllapsedTime: 620.4 seconds RetCode: 0 Status: OK PackageFile: MultiAssayExperiment_1.33.9.zip PackageFileSize: 2.024 MiB